Package: coRdon Version: 1.18.0 Command: F:\biocbuild\bbs-3.17-bioc\R\bin\R.exe CMD check --no-multiarch --install=check:coRdon.install-out.txt --library=F:\biocbuild\bbs-3.17-bioc\R\library --no-vignettes --timings coRdon_1.18.0.tar.gz StartedAt: 2023-10-16 00:59:20 -0400 (Mon, 16 Oct 2023) EndedAt: 2023-10-16 01:01:16 -0400 (Mon, 16 Oct 2023) EllapsedTime: 115.8 seconds RetCode: 0 Status: OK CheckDir: coRdon.Rcheck Warnings: 0