Package: coRdon Version: 1.18.0 Command: chmod a+r coRdon -R && F:\biocbuild\bbs-3.17-bioc\R\bin\R.exe CMD build --keep-empty-dirs --no-resave-data coRdon StartedAt: 2023-10-15 18:22:48 -0400 (Sun, 15 Oct 2023) EndedAt: 2023-10-15 18:23:47 -0400 (Sun, 15 Oct 2023) EllapsedTime: 59.5 seconds RetCode: 0 Status: OK PackageFile: coRdon_1.18.0.tar.gz PackageFileSize: 1.05 MiB