Package: coRdon Version: 1.18.0 Command: rm -rf coRdon.buildbin-libdir && mkdir coRdon.buildbin-libdir && F:\biocbuild\bbs-3.17-bioc\R\bin\R.exe CMD INSTALL --build --library=coRdon.buildbin-libdir coRdon_1.18.0.tar.gz StartedAt: 2023-10-16 08:37:59 -0400 (Mon, 16 Oct 2023) EndedAt: 2023-10-16 08:38:32 -0400 (Mon, 16 Oct 2023) EllapsedTime: 32.8 seconds RetCode: 0 Status: OK PackageFile: coRdon_1.18.0.zip PackageFileSize: 1.475 MiB