Package: coRdon Version: 1.18.0 Command: /Library/Frameworks/R.framework/Resources/bin/R CMD INSTALL coRdon StartedAt: 2023-10-15 15:11:44 -0400 (Sun, 15 Oct 2023) EndedAt: 2023-10-15 15:12:49 -0400 (Sun, 15 Oct 2023) EllapsedTime: 64.9 seconds RetCode: 0 Status: OK