Package: coRdon Version: 1.18.0 Command: rm -rf coRdon.buildbin-libdir && mkdir coRdon.buildbin-libdir && /Users/biocbuild/BBS/utils/build-universal.sh coRdon_1.18.0.tar.gz /Library/Frameworks/R.framework/Resources/bin/R coRdon.buildbin-libdir StartedAt: 2023-10-16 09:12:11 -0400 (Mon, 16 Oct 2023) EndedAt: 2023-10-16 09:13:07 -0400 (Mon, 16 Oct 2023) EllapsedTime: 55.7 seconds RetCode: 0 Status: OK PackageFile: coRdon_1.18.0.tgz PackageFileSize: 2.585 MiB