Package: coMET Version: 1.32.0 Command: rm -rf coMET.buildbin-libdir && mkdir coMET.buildbin-libdir && /Users/biocbuild/BBS/utils/build-universal.sh coMET_1.32.0.tar.gz /Library/Frameworks/R.framework/Resources/bin/R coMET.buildbin-libdir StartedAt: 2023-10-16 09:11:19 -0400 (Mon, 16 Oct 2023) EndedAt: 2023-10-16 09:14:18 -0400 (Mon, 16 Oct 2023) EllapsedTime: 179.5 seconds RetCode: 0 Status: OK PackageFile: coMET_1.32.0.tgz PackageFileSize: 21.82 MiB