Package: cnvGSA Version: 1.44.0 Command: rm -rf cnvGSA.buildbin-libdir && mkdir cnvGSA.buildbin-libdir && F:\biocbuild\bbs-3.17-bioc\R\bin\R.exe CMD INSTALL --build --library=cnvGSA.buildbin-libdir cnvGSA_1.44.0.tar.gz StartedAt: 2023-10-16 08:36:34 -0400 (Mon, 16 Oct 2023) EndedAt: 2023-10-16 08:36:50 -0400 (Mon, 16 Oct 2023) EllapsedTime: 16.1 seconds RetCode: 0 Status: OK PackageFile: cnvGSA_1.44.0.zip PackageFileSize: 359.4 KiB