Package: cn.mops Version: 1.46.0 Command: F:\biocbuild\bbs-3.17-bioc\R\bin\R.exe CMD INSTALL cn.mops StartedAt: 2023-10-15 16:09:13 -0400 (Sun, 15 Oct 2023) EndedAt: 2023-10-15 16:09:43 -0400 (Sun, 15 Oct 2023) EllapsedTime: 30.5 seconds RetCode: 0 Status: OK