Package: cn.mops Version: 1.46.0 Command: chmod a+r cn.mops -R && F:\biocbuild\bbs-3.17-bioc\R\bin\R.exe CMD build --keep-empty-dirs --no-resave-data cn.mops StartedAt: 2023-10-15 18:12:53 -0400 (Sun, 15 Oct 2023) EndedAt: 2023-10-15 18:13:52 -0400 (Sun, 15 Oct 2023) EllapsedTime: 58.4 seconds RetCode: 0 Status: OK PackageFile: cn.mops_1.46.0.tar.gz PackageFileSize: 954 KiB