Package: cn.mops Version: 1.46.0 Command: rm -rf cn.mops.buildbin-libdir && mkdir cn.mops.buildbin-libdir && F:\biocbuild\bbs-3.17-bioc\R\bin\R.exe CMD INSTALL --build --library=cn.mops.buildbin-libdir cn.mops_1.46.0.tar.gz StartedAt: 2023-10-16 08:36:15 -0400 (Mon, 16 Oct 2023) EndedAt: 2023-10-16 08:36:45 -0400 (Mon, 16 Oct 2023) EllapsedTime: 30.0 seconds RetCode: 0 Status: OK PackageFile: cn.mops_1.46.0.zip PackageFileSize: 1.624 MiB