Package: cn.mops Version: 1.46.0 Command: /Library/Frameworks/R.framework/Resources/bin/R CMD INSTALL cn.mops StartedAt: 2023-10-15 15:27:10 -0400 (Sun, 15 Oct 2023) EndedAt: 2023-10-15 15:28:19 -0400 (Sun, 15 Oct 2023) EllapsedTime: 68.9 seconds RetCode: 0 Status: OK