Package: cn.mops Version: 1.46.0 Command: /Library/Frameworks/R.framework/Resources/bin/R CMD build --keep-empty-dirs --no-resave-data cn.mops StartedAt: 2023-10-15 17:30:15 -0400 (Sun, 15 Oct 2023) EndedAt: 2023-10-15 17:32:20 -0400 (Sun, 15 Oct 2023) EllapsedTime: 125.0 seconds RetCode: 0 Status: OK PackageFile: cn.mops_1.46.0.tar.gz PackageFileSize: 1.002 MiB