Package: cn.mops Version: 1.46.0 Command: rm -rf cn.mops.buildbin-libdir && mkdir cn.mops.buildbin-libdir && /Users/biocbuild/BBS/utils/build-universal.sh cn.mops_1.46.0.tar.gz /Library/Frameworks/R.framework/Resources/bin/R cn.mops.buildbin-libdir StartedAt: 2023-10-16 09:10:12 -0400 (Mon, 16 Oct 2023) EndedAt: 2023-10-16 09:11:27 -0400 (Mon, 16 Oct 2023) EllapsedTime: 75.8 seconds RetCode: 0 Status: OK PackageFile: cn.mops_1.46.0.tgz PackageFileSize: 1.385 MiB