Package: cmapR Version: 1.12.0 Command: chmod a+r cmapR -R && F:\biocbuild\bbs-3.17-bioc\R\bin\R.exe CMD build --keep-empty-dirs --no-resave-data cmapR StartedAt: 2023-10-15 18:12:43 -0400 (Sun, 15 Oct 2023) EndedAt: 2023-10-15 18:13:46 -0400 (Sun, 15 Oct 2023) EllapsedTime: 62.3 seconds RetCode: 0 Status: OK PackageFile: cmapR_1.12.0.tar.gz PackageFileSize: 3.686 MiB