Package: cmapR Version: 1.12.0 Command: /Library/Frameworks/R.framework/Resources/bin/R CMD INSTALL cmapR StartedAt: 2023-10-15 15:21:37 -0400 (Sun, 15 Oct 2023) EndedAt: 2023-10-15 15:22:53 -0400 (Sun, 15 Oct 2023) EllapsedTime: 75.9 seconds RetCode: 0 Status: OK