Package: cmapR Version: 1.12.0 Command: /Library/Frameworks/R.framework/Resources/bin/R CMD build --keep-empty-dirs --no-resave-data cmapR StartedAt: 2023-10-15 17:30:13 -0400 (Sun, 15 Oct 2023) EndedAt: 2023-10-15 17:32:37 -0400 (Sun, 15 Oct 2023) EllapsedTime: 144.0 seconds RetCode: 0 Status: OK PackageFile: cmapR_1.12.0.tar.gz PackageFileSize: 3.738 MiB