Package: clusterStab Version: 1.72.0 Command: F:\biocbuild\bbs-3.17-bioc\R\bin\R.exe CMD INSTALL clusterStab StartedAt: 2023-10-15 15:48:44 -0400 (Sun, 15 Oct 2023) EndedAt: 2023-10-15 15:48:58 -0400 (Sun, 15 Oct 2023) EllapsedTime: 14.3 seconds RetCode: 0 Status: OK