Package: clusterStab Version: 1.72.0 Command: /Library/Frameworks/R.framework/Resources/bin/R CMD check --install=check:clusterStab.install-out.txt --library=/Library/Frameworks/R.framework/Resources/library --no-vignettes --timings clusterStab_1.72.0.tar.gz StartedAt: 2023-10-15 23:55:13 -0400 (Sun, 15 Oct 2023) EndedAt: 2023-10-15 23:56:15 -0400 (Sun, 15 Oct 2023) EllapsedTime: 61.8 seconds RetCode: 0 Status: OK CheckDir: clusterStab.Rcheck Warnings: 0