Package: clusterSeq Version: 1.24.0 Command: F:\biocbuild\bbs-3.17-bioc\R\bin\R.exe CMD INSTALL clusterSeq StartedAt: 2023-10-15 16:05:48 -0400 (Sun, 15 Oct 2023) EndedAt: 2023-10-15 16:06:07 -0400 (Sun, 15 Oct 2023) EllapsedTime: 19.7 seconds RetCode: 0 Status: OK