Package: clusterSeq Version: 1.24.0 Command: chmod a+r clusterSeq -R && F:\biocbuild\bbs-3.17-bioc\R\bin\R.exe CMD build --keep-empty-dirs --no-resave-data clusterSeq StartedAt: 2023-10-15 18:12:04 -0400 (Sun, 15 Oct 2023) EndedAt: 2023-10-15 18:13:43 -0400 (Sun, 15 Oct 2023) EllapsedTime: 98.4 seconds RetCode: 0 Status: OK PackageFile: clusterSeq_1.24.0.tar.gz PackageFileSize: 1.009 MiB