Package: clusterSeq Version: 1.24.0 Command: rm -rf clusterSeq.buildbin-libdir && mkdir clusterSeq.buildbin-libdir && F:\biocbuild\bbs-3.17-bioc\R\bin\R.exe CMD INSTALL --build --library=clusterSeq.buildbin-libdir clusterSeq_1.24.0.tar.gz StartedAt: 2023-10-16 08:35:58 -0400 (Mon, 16 Oct 2023) EndedAt: 2023-10-16 08:36:24 -0400 (Mon, 16 Oct 2023) EllapsedTime: 26.1 seconds RetCode: 0 Status: OK PackageFile: clusterSeq_1.24.0.zip PackageFileSize: 1.056 MiB