Package: clusterSeq Version: 1.24.0 Command: /home/biocbuild/bbs-3.17-bioc/R/bin/R CMD build --keep-empty-dirs --no-resave-data clusterSeq StartedAt: 2023-10-15 16:21:07 -0400 (Sun, 15 Oct 2023) EndedAt: 2023-10-15 16:22:03 -0400 (Sun, 15 Oct 2023) EllapsedTime: 55.7 seconds RetCode: 0 Status: OK PackageFile: clusterSeq_1.24.0.tar.gz PackageFileSize: 1.008 MiB