Package: clusterSeq Version: 1.24.0 Command: rm -rf clusterSeq.buildbin-libdir && mkdir clusterSeq.buildbin-libdir && /Users/biocbuild/BBS/utils/build-universal.sh clusterSeq_1.24.0.tar.gz /Library/Frameworks/R.framework/Resources/bin/R clusterSeq.buildbin-libdir StartedAt: 2023-10-16 09:09:59 -0400 (Mon, 16 Oct 2023) EndedAt: 2023-10-16 09:10:57 -0400 (Mon, 16 Oct 2023) EllapsedTime: 57.5 seconds RetCode: 0 Status: OK PackageFile: clusterSeq_1.24.0.tgz PackageFileSize: 1.052 MiB