Package: clusterProfiler Version: 4.8.3 Command: /home/biocbuild/bbs-3.17-bioc/R/bin/R CMD build --keep-empty-dirs --no-resave-data clusterProfiler StartedAt: 2023-10-15 16:20:56 -0400 (Sun, 15 Oct 2023) EndedAt: 2023-10-15 16:21:20 -0400 (Sun, 15 Oct 2023) EllapsedTime: 24.6 seconds RetCode: 0 Status: OK PackageFile: clusterProfiler_4.8.3.tar.gz PackageFileSize: 433.4 KiB