Package: clusterExperiment Version: 2.20.0 Command: F:\biocbuild\bbs-3.17-bioc\R\bin\R.exe CMD INSTALL clusterExperiment StartedAt: 2023-10-15 16:50:54 -0400 (Sun, 15 Oct 2023) EndedAt: 2023-10-15 16:52:42 -0400 (Sun, 15 Oct 2023) EllapsedTime: 107.9 seconds RetCode: 0 Status: OK