Package: clusterExperiment Version: 2.20.0 Command: F:\biocbuild\bbs-3.17-bioc\R\bin\R.exe CMD check --no-multiarch --install=check:clusterExperiment.install-out.txt --library=F:\biocbuild\bbs-3.17-bioc\R\library --no-vignettes --timings clusterExperiment_2.20.0.tar.gz StartedAt: 2023-10-16 00:42:01 -0400 (Mon, 16 Oct 2023) EndedAt: 2023-10-16 00:57:46 -0400 (Mon, 16 Oct 2023) EllapsedTime: 945.4 seconds RetCode: 0 Status: WARNINGS CheckDir: clusterExperiment.Rcheck Warnings: 1