Package: clusterExperiment Version: 2.20.0 Command: rm -rf clusterExperiment.buildbin-libdir && mkdir clusterExperiment.buildbin-libdir && F:\biocbuild\bbs-3.17-bioc\R\bin\R.exe CMD INSTALL --build --library=clusterExperiment.buildbin-libdir clusterExperiment_2.20.0.tar.gz StartedAt: 2023-10-16 08:35:52 -0400 (Mon, 16 Oct 2023) EndedAt: 2023-10-16 08:37:28 -0400 (Mon, 16 Oct 2023) EllapsedTime: 95.2 seconds RetCode: 0 Status: OK PackageFile: clusterExperiment_2.20.0.zip PackageFileSize: 9.023 MiB