Package: clusterExperiment Version: 2.20.0 Command: /home/biocbuild/bbs-3.17-bioc/R/bin/R CMD INSTALL clusterExperiment StartedAt: 2023-10-15 15:41:47 -0400 (Sun, 15 Oct 2023) EndedAt: 2023-10-15 15:43:04 -0400 (Sun, 15 Oct 2023) EllapsedTime: 77.0 seconds RetCode: 0 Status: OK