Package: clusterExperiment Version: 2.20.0 Command: /home/biocbuild/bbs-3.17-bioc/R/bin/R CMD build --keep-empty-dirs --no-resave-data clusterExperiment StartedAt: 2023-10-15 16:20:53 -0400 (Sun, 15 Oct 2023) EndedAt: 2023-10-15 16:26:30 -0400 (Sun, 15 Oct 2023) EllapsedTime: 336.6 seconds RetCode: 0 Status: OK PackageFile: clusterExperiment_2.20.0.tar.gz PackageFileSize: 10.56 MiB