Package: clusterExperiment Version: 2.20.0 Command: /Library/Frameworks/R.framework/Resources/bin/R CMD check --install=check:clusterExperiment.install-out.txt --library=/Library/Frameworks/R.framework/Resources/library --no-vignettes --timings clusterExperiment_2.20.0.tar.gz StartedAt: 2023-10-15 23:54:25 -0400 (Sun, 15 Oct 2023) EndedAt: 2023-10-16 00:34:26 -0400 (Mon, 16 Oct 2023) EllapsedTime: 2400.6 seconds RetCode: None Status: TIMEOUT CheckDir: clusterExperiment.Rcheck Warnings: NA