Package: clustComp Version: 1.28.0 Command: /home/biocbuild/bbs-3.17-bioc/R/bin/R CMD check --install=check:clustComp.install-out.txt --library=/home/biocbuild/bbs-3.17-bioc/R/site-library --timings clustComp_1.28.0.tar.gz StartedAt: 2023-10-15 20:09:50 -0400 (Sun, 15 Oct 2023) EndedAt: 2023-10-15 20:11:47 -0400 (Sun, 15 Oct 2023) EllapsedTime: 116.8 seconds RetCode: 0 Status: OK CheckDir: clustComp.Rcheck Warnings: 0