Package: clustComp Version: 1.28.0 Command: /Library/Frameworks/R.framework/Resources/bin/R CMD check --install=check:clustComp.install-out.txt --library=/Library/Frameworks/R.framework/Resources/library --no-vignettes --timings clustComp_1.28.0.tar.gz StartedAt: 2023-10-15 23:54:21 -0400 (Sun, 15 Oct 2023) EndedAt: 2023-10-15 23:55:17 -0400 (Sun, 15 Oct 2023) EllapsedTime: 56.1 seconds RetCode: 0 Status: OK CheckDir: clustComp.Rcheck Warnings: 0