Package: clst Version: 1.48.0 Command: /home/biocbuild/bbs-3.17-bioc/R/bin/R CMD INSTALL clst StartedAt: 2023-10-15 15:11:24 -0400 (Sun, 15 Oct 2023) EndedAt: 2023-10-15 15:11:27 -0400 (Sun, 15 Oct 2023) EllapsedTime: 2.9 seconds RetCode: 0 Status: OK