Package: clst Version: 1.48.0 Command: /Library/Frameworks/R.framework/Resources/bin/R CMD check --install=check:clst.install-out.txt --library=/Library/Frameworks/R.framework/Resources/library --no-vignettes --timings clst_1.48.0.tar.gz StartedAt: 2023-10-15 23:53:34 -0400 (Sun, 15 Oct 2023) EndedAt: 2023-10-15 23:54:45 -0400 (Sun, 15 Oct 2023) EllapsedTime: 71.0 seconds RetCode: 0 Status: WARNINGS CheckDir: clst.Rcheck Warnings: 1