Package: clst Version: 1.48.0 Command: /Library/Frameworks/R.framework/Resources/bin/R CMD build --keep-empty-dirs --no-resave-data clst StartedAt: 2023-10-15 17:27:44 -0400 (Sun, 15 Oct 2023) EndedAt: 2023-10-15 17:28:27 -0400 (Sun, 15 Oct 2023) EllapsedTime: 43.7 seconds RetCode: 0 Status: OK PackageFile: clst_1.48.0.tar.gz PackageFileSize: 1.018 MiB