git_url: https://git.bioconductor.org/packages/clst git_branch: RELEASE_3_17 git_last_commit: 7200775 git_last_commit_date: 2023-04-25 10:18:59 -0400 (Tue, 25 Apr 2023) Package: clst Version: 1.48.0 Maintainer: Noah Hoffman MaintainerEmail: ngh2 at uw.edu