Package: cliqueMS Version: 1.14.1 Command: /home/biocbuild/bbs-3.17-bioc/R/bin/R CMD INSTALL cliqueMS StartedAt: 2023-10-15 15:39:18 -0400 (Sun, 15 Oct 2023) EndedAt: 2023-10-15 15:40:23 -0400 (Sun, 15 Oct 2023) EllapsedTime: 64.9 seconds RetCode: 0 Status: OK