Package: cliqueMS Version: 1.14.1 Command: /home/biocbuild/bbs-3.17-bioc/R/bin/R CMD check --install=check:cliqueMS.install-out.txt --library=/home/biocbuild/bbs-3.17-bioc/R/site-library --timings cliqueMS_1.14.1.tar.gz StartedAt: 2023-10-15 20:08:37 -0400 (Sun, 15 Oct 2023) EndedAt: 2023-10-15 20:13:42 -0400 (Sun, 15 Oct 2023) EllapsedTime: 305.0 seconds RetCode: 0 Status: OK CheckDir: cliqueMS.Rcheck Warnings: 0