Package: cliqueMS Version: 1.14.1 Command: /Library/Frameworks/R.framework/Resources/bin/R CMD check --install=check:cliqueMS.install-out.txt --library=/Library/Frameworks/R.framework/Resources/library --no-vignettes --timings cliqueMS_1.14.1.tar.gz StartedAt: 2023-10-15 23:51:52 -0400 (Sun, 15 Oct 2023) EndedAt: 2023-10-16 00:04:32 -0400 (Mon, 16 Oct 2023) EllapsedTime: 759.8 seconds RetCode: 0 Status: WARNINGS CheckDir: cliqueMS.Rcheck Warnings: 1