Package: cliqueMS Version: 1.14.1 Command: rm -rf cliqueMS.buildbin-libdir && mkdir cliqueMS.buildbin-libdir && /Users/biocbuild/BBS/utils/build-universal.sh cliqueMS_1.14.1.tar.gz /Library/Frameworks/R.framework/Resources/bin/R cliqueMS.buildbin-libdir StartedAt: 2023-10-16 09:09:36 -0400 (Mon, 16 Oct 2023) EndedAt: 2023-10-16 09:13:20 -0400 (Mon, 16 Oct 2023) EllapsedTime: 224.2 seconds RetCode: 0 Status: OK PackageFile: cliqueMS_1.14.1.tgz PackageFileSize: 1.007 MiB