Package: clippda Version: 1.50.0 Command: rm -rf clippda.buildbin-libdir && mkdir clippda.buildbin-libdir && F:\biocbuild\bbs-3.17-bioc\R\bin\R.exe CMD INSTALL --build --library=clippda.buildbin-libdir clippda_1.50.0.tar.gz StartedAt: 2023-10-16 08:35:29 -0400 (Mon, 16 Oct 2023) EndedAt: 2023-10-16 08:35:41 -0400 (Mon, 16 Oct 2023) EllapsedTime: 12.3 seconds RetCode: 0 Status: OK PackageFile: clippda_1.50.0.zip PackageFileSize: 1.591 MiB