Package: clippda Version: 1.50.0 Command: /home/biocbuild/bbs-3.17-bioc/R/bin/R CMD INSTALL clippda StartedAt: 2023-10-15 15:26:24 -0400 (Sun, 15 Oct 2023) EndedAt: 2023-10-15 15:26:32 -0400 (Sun, 15 Oct 2023) EllapsedTime: 7.7 seconds RetCode: 0 Status: OK