Package: clippda Version: 1.50.0 Command: /home/biocbuild/bbs-3.17-bioc/R/bin/R CMD build --keep-empty-dirs --no-resave-data clippda StartedAt: 2023-10-15 16:19:33 -0400 (Sun, 15 Oct 2023) EndedAt: 2023-10-15 16:20:55 -0400 (Sun, 15 Oct 2023) EllapsedTime: 82.4 seconds RetCode: 0 Status: OK PackageFile: clippda_1.50.0.tar.gz PackageFileSize: 1.334 MiB