Package: clippda Version: 1.50.0 Command: /Library/Frameworks/R.framework/Resources/bin/R CMD INSTALL clippda StartedAt: 2023-10-15 15:45:34 -0400 (Sun, 15 Oct 2023) EndedAt: 2023-10-15 15:45:58 -0400 (Sun, 15 Oct 2023) EllapsedTime: 23.9 seconds RetCode: 0 Status: OK