Package: clippda Version: 1.50.0 Command: /Library/Frameworks/R.framework/Resources/bin/R CMD check --install=check:clippda.install-out.txt --library=/Library/Frameworks/R.framework/Resources/library --no-vignettes --timings clippda_1.50.0.tar.gz StartedAt: 2023-10-15 23:51:30 -0400 (Sun, 15 Oct 2023) EndedAt: 2023-10-15 23:59:01 -0400 (Sun, 15 Oct 2023) EllapsedTime: 450.8 seconds RetCode: 0 Status: OK CheckDir: clippda.Rcheck Warnings: 0