Package: clippda Version: 1.50.0 Command: rm -rf clippda.buildbin-libdir && mkdir clippda.buildbin-libdir && /Users/biocbuild/BBS/utils/build-universal.sh clippda_1.50.0.tar.gz /Library/Frameworks/R.framework/Resources/bin/R clippda.buildbin-libdir StartedAt: 2023-10-16 09:09:28 -0400 (Mon, 16 Oct 2023) EndedAt: 2023-10-16 09:09:56 -0400 (Mon, 16 Oct 2023) EllapsedTime: 27.7 seconds RetCode: 0 Status: OK PackageFile: clippda_1.50.0.tgz PackageFileSize: 1.746 MiB