Package: cliProfiler Version: 1.6.0 Command: F:\biocbuild\bbs-3.17-bioc\R\bin\R.exe CMD check --no-multiarch --install=check:cliProfiler.install-out.txt --library=F:\biocbuild\bbs-3.17-bioc\R\library --no-vignettes --timings cliProfiler_1.6.0.tar.gz StartedAt: 2023-10-16 00:39:31 -0400 (Mon, 16 Oct 2023) EndedAt: 2023-10-16 00:43:21 -0400 (Mon, 16 Oct 2023) EllapsedTime: 230.1 seconds RetCode: 0 Status: OK CheckDir: cliProfiler.Rcheck Warnings: 0