Package: cliProfiler Version: 1.6.0 Command: chmod a+r cliProfiler -R && F:\biocbuild\bbs-3.17-bioc\R\bin\R.exe CMD build --keep-empty-dirs --no-resave-data cliProfiler StartedAt: 2023-10-15 18:10:49 -0400 (Sun, 15 Oct 2023) EndedAt: 2023-10-15 18:11:59 -0400 (Sun, 15 Oct 2023) EllapsedTime: 70.2 seconds RetCode: 0 Status: OK PackageFile: cliProfiler_1.6.0.tar.gz PackageFileSize: 596 KiB