Package: cliProfiler Version: 1.6.0 Command: rm -rf cliProfiler.buildbin-libdir && mkdir cliProfiler.buildbin-libdir && F:\biocbuild\bbs-3.17-bioc\R\bin\R.exe CMD INSTALL --build --library=cliProfiler.buildbin-libdir cliProfiler_1.6.0.tar.gz StartedAt: 2023-10-16 08:35:32 -0400 (Mon, 16 Oct 2023) EndedAt: 2023-10-16 08:36:14 -0400 (Mon, 16 Oct 2023) EllapsedTime: 41.9 seconds RetCode: 0 Status: OK PackageFile: cliProfiler_1.6.0.zip PackageFileSize: 691.7 KiB