Package: cliProfiler Version: 1.6.0 Command: /Library/Frameworks/R.framework/Resources/bin/R CMD INSTALL cliProfiler StartedAt: 2023-10-15 15:33:47 -0400 (Sun, 15 Oct 2023) EndedAt: 2023-10-15 15:35:55 -0400 (Sun, 15 Oct 2023) EllapsedTime: 127.7 seconds RetCode: 0 Status: OK